BEGIN:VCALENDAR
VERSION:2.0
PRODID:-//SPD Marzahn-Hellersdorf - ECPv6.15.20//NONSGML v1.0//EN
CALSCALE:GREGORIAN
METHOD:PUBLISH
X-WR-CALNAME:SPD Marzahn-Hellersdorf
X-ORIGINAL-URL:https://spd-marzahn-hellersdorf.de
X-WR-CALDESC:Veranstaltungen für SPD Marzahn-Hellersdorf
REFRESH-INTERVAL;VALUE=DURATION:PT1H
X-Robots-Tag:noindex
X-PUBLISHED-TTL:PT1H
BEGIN:VTIMEZONE
TZID:Europe/Berlin
BEGIN:DAYLIGHT
TZOFFSETFROM:+0100
TZOFFSETTO:+0200
TZNAME:CEST
DTSTART:20220327T010000
END:DAYLIGHT
BEGIN:STANDARD
TZOFFSETFROM:+0200
TZOFFSETTO:+0100
TZNAME:CET
DTSTART:20221030T010000
END:STANDARD
BEGIN:DAYLIGHT
TZOFFSETFROM:+0100
TZOFFSETTO:+0200
TZNAME:CEST
DTSTART:20230326T010000
END:DAYLIGHT
BEGIN:STANDARD
TZOFFSETFROM:+0200
TZOFFSETTO:+0100
TZNAME:CET
DTSTART:20231029T010000
END:STANDARD
BEGIN:DAYLIGHT
TZOFFSETFROM:+0100
TZOFFSETTO:+0200
TZNAME:CEST
DTSTART:20240331T010000
END:DAYLIGHT
BEGIN:STANDARD
TZOFFSETFROM:+0200
TZOFFSETTO:+0100
TZNAME:CET
DTSTART:20241027T010000
END:STANDARD
END:VTIMEZONE
BEGIN:VEVENT
DTSTART;TZID=Europe/Berlin:20230303T163000
DTEND;TZID=Europe/Berlin:20230303T180000
DTSTAMP:20260420T131650
CREATED:20230209T143238Z
LAST-MODIFIED:20230301T134141Z
UID:6096-1677861000-1677866400@spd-marzahn-hellersdorf.de
SUMMARY:Geschäftsführender Kreisvorstand
DESCRIPTION:
URL:https://spd-marzahn-hellersdorf.de/veranstaltung/gescchaeftsfuehrender-kreisvorstand
END:VEVENT
BEGIN:VEVENT
DTSTART;TZID=Europe/Berlin:20230303T183000
DTEND;TZID=Europe/Berlin:20230303T203000
DTSTAMP:20260420T131650
CREATED:20230220T143813Z
LAST-MODIFIED:20230220T143939Z
UID:6140-1677868200-1677875400@spd-marzahn-hellersdorf.de
SUMMARY:Mitgliederversammlung Jusos Marzahn-Hellersdorf
DESCRIPTION:Sie wollen bei einer Sitzung der Jusos dabei sein? \nSie wollen Informationen über die Jusos Marzahn-Hellersdorf erhalten?  Dann einfach eine e-Mail an Kreis.Marzahn-Hellersdorf@spd.de senden. Sie erhalten umgehend weitere Informationen. \nBitte beachten Sie\, dass kurzfristig sich die Sitzungstermine ändern können.
URL:https://spd-marzahn-hellersdorf.de/veranstaltung/mitgliederversammlung-jusos-marzahn-hellersdorf
END:VEVENT
BEGIN:VEVENT
DTSTART;TZID=Europe/Berlin:20230304T080000
DTEND;TZID=Europe/Berlin:20230309T170000
DTSTAMP:20260420T131650
CREATED:20230306T153222Z
LAST-MODIFIED:20230306T153356Z
UID:6172-1677916800-1678381200@spd-marzahn-hellersdorf.de
SUMMARY:Solidarität zum Frauentrag: Spendensammlung für Frauen im Erdbebengebiet türkisch-syrische Grenze
DESCRIPTION:Machen Sie mit und zeigen Sie zum Internationalen Frauen durch eine Spende ihre Solidarität!  Wir sammeln die Sachspenden noch bis zum 9. März 2023. Ihre Spende können Sie am Donnerstag\, 9. März 2023\, von 14.00 – 18.00 Uhr oder nach Vereinbarung in der Geschäftsstelle der SPD Marzahn-Hellersdorf im Blumberger Damm 158 abgeben.
URL:https://spd-marzahn-hellersdorf.de/veranstaltung/solidaritaet-spendensammlung-fuer-frauen-im-erdbebengiet-tuerkisch-syrische-grenze
END:VEVENT
BEGIN:VEVENT
DTSTART;TZID=Europe/Berlin:20230307T190000
DTEND;TZID=Europe/Berlin:20230307T210000
DTSTAMP:20260420T131650
CREATED:20230209T123813Z
LAST-MODIFIED:20230209T125623Z
UID:6021-1678215600-1678222800@spd-marzahn-hellersdorf.de
SUMMARY:Mitgliederversammlung SPD Klausdorf- und Mahlsdorf-Nord
DESCRIPTION:Die SPD Kaulsdorf- und Mahlsdorf-Nord tagt immer am ersten Dienstag im Monat um  19 Uhr\, Gaststätte „Zur S-Bahn“ Heinrich-Grüber-Straße 1\, 12621 Berlin am S-Bahnhof Kaulsdorf. \nBei Interesse bitte bei Jan Lehmann melden: mail@spd-lehmann.de
URL:https://spd-marzahn-hellersdorf.de/veranstaltung/mitgliederversammlung-spd-klausdorf-und-mahlsdorf-nord
CATEGORIES:SPD Kaulsdorf- und Mahlsdorf-Nord
END:VEVENT
BEGIN:VEVENT
DTSTART;TZID=Europe/Berlin:20230311T110000
DTEND;TZID=Europe/Berlin:20230311T133000
DTSTAMP:20260420T131650
CREATED:20230209T153059Z
LAST-MODIFIED:20230209T153111Z
UID:6100-1678532400-1678541400@spd-marzahn-hellersdorf.de
SUMMARY:Anlässlich des Frauentags Treffen der AsF - Arbeitsgemeinschaft Sozialdemokratischer Frauen
DESCRIPTION:Sie wollen mehr wissen über die AsF – Arbeitsgemeinschaft Sozialdemokratischer Frauen? Sie wollen mitmachen? \nDas geht ganz einfach. Senden Sie uns eine e-Mail an: Kreis.Marzahn-Hellersdorf@spd.de .
URL:https://spd-marzahn-hellersdorf.de/veranstaltung/anlaesslich-des-frauentags-treffen-der-asf-arbeitsgemeinschaft-sozialdemokratischer-frauen
CATEGORIES:Arbeitsgemeinschaft Sozialdemokratischer Frauen
END:VEVENT
BEGIN:VEVENT
DTSTART;TZID=Europe/Berlin:20230313T180000
DTEND;TZID=Europe/Berlin:20230313T200000
DTSTAMP:20260420T131650
CREATED:20230209T141145Z
LAST-MODIFIED:20230209T141452Z
UID:6057-1678730400-1678737600@spd-marzahn-hellersdorf.de
SUMMARY:Kreisvorstand
DESCRIPTION:
URL:https://spd-marzahn-hellersdorf.de/veranstaltung/geschaeftsfuehrender-kreisvorstand-der-spd-marzahn-hellersdorf-tagt
END:VEVENT
BEGIN:VEVENT
DTSTART;TZID=Europe/Berlin:20230314T180000
DTEND;TZID=Europe/Berlin:20230314T200000
DTSTAMP:20260420T131650
CREATED:20230221T134304Z
LAST-MODIFIED:20230221T134414Z
UID:6148-1678816800-1678824000@spd-marzahn-hellersdorf.de
SUMMARY:Mitgliederversammlung SPD Alt-Marzahn
DESCRIPTION:Sie wollen generell mehr wissen über die SPD Alt-Marzahn? Sie wollen mitmachen? \nDas geht ganz einfach. Senden Sie uns eine e-Mail an: Kreis.Marzahn-Hellersdorf@spd.de . \nBitte beachten Sie\, der Termin wie auch der Tagungsort können sich kurzfristig immer ändern. Einfach eine e-Mail an Kreis-Marzahn-Hellersdorf@spd.de schicken.
URL:https://spd-marzahn-hellersdorf.de/veranstaltung/mitgliederversammlung-spd-alt-marzahn-2
END:VEVENT
BEGIN:VEVENT
DTSTART;TZID=Europe/Berlin:20230321T180000
DTEND;TZID=Europe/Berlin:20230321T200000
DTSTAMP:20260420T131650
CREATED:20230209T121724Z
LAST-MODIFIED:20230209T125509Z
UID:6000-1679421600-1679428800@spd-marzahn-hellersdorf.de
SUMMARY:Mitgliederversammlung SPD Hellersdorf
DESCRIPTION:Sie wollen bei einer Sitzung der SPD Hellersdorf dabei sein? \nDie SPD Hellersdorf tagt heute ab 18.00 Uhr in der Helle Tierarche Oschatzer Ring 1.  \nSie wollen Informationen über die SPD Hellersdorf erhalten?  Dann einfach eine e-Mail an Kreis.Marzahn-Hellersdorf@spd.de senden. Sie erhalten umgehend weitere Informationen. \nBitte beachten Sie\, dass kurzfristig sich die Sitzungstermine ändern können.
URL:https://spd-marzahn-hellersdorf.de/veranstaltung/mitgliederversammlung-spd-hellersdorf
CATEGORIES:Hellersdorf
END:VEVENT
BEGIN:VEVENT
DTSTART;TZID=Europe/Berlin:20230324T180000
DTEND;TZID=Europe/Berlin:20230324T200000
DTSTAMP:20260420T131650
CREATED:20230316T151640Z
LAST-MODIFIED:20230316T151640Z
UID:6192-1679680800-1679688000@spd-marzahn-hellersdorf.de
SUMMARY:Mitgliederversammlung SPD Biesdorf-Nord
DESCRIPTION:Sie wollen mehr Informationen über die SPD Biesdorf-Nord. Einfach eine e-Mail an: Kreis.Marzahn-Hellersdorf@spd.de . Sie bekommen umgehend weitere Informationen. \nDie SPD Biesdorf-Nord tagt dieses Mal im Schloss Biesdorf\, Alt-Biesdorf 55\,
URL:https://spd-marzahn-hellersdorf.de/veranstaltung/mitgliederversammlung-spd-biesdorf-nord-3
CATEGORIES:SPD Biesdorf-Nord
END:VEVENT
BEGIN:VEVENT
DTSTART;TZID=Europe/Berlin:20230327T163000
DTEND;TZID=Europe/Berlin:20230327T180000
DTSTAMP:20260420T131650
CREATED:20230209T141356Z
LAST-MODIFIED:20230209T143051Z
UID:6061-1679934600-1679940000@spd-marzahn-hellersdorf.de
SUMMARY:Geschäftsführender Kreisvorstand
DESCRIPTION:
URL:https://spd-marzahn-hellersdorf.de/veranstaltung/geschaeftsfuehrender-kreisvorstand-2
END:VEVENT
END:VCALENDAR