BEGIN:VCALENDAR
VERSION:2.0
PRODID:-//SPD Marzahn-Hellersdorf - ECPv6.15.20//NONSGML v1.0//EN
CALSCALE:GREGORIAN
METHOD:PUBLISH
X-WR-CALNAME:SPD Marzahn-Hellersdorf
X-ORIGINAL-URL:https://spd-marzahn-hellersdorf.de
X-WR-CALDESC:Veranstaltungen für SPD Marzahn-Hellersdorf
REFRESH-INTERVAL;VALUE=DURATION:PT1H
X-Robots-Tag:noindex
X-PUBLISHED-TTL:PT1H
BEGIN:VTIMEZONE
TZID:Europe/Berlin
BEGIN:DAYLIGHT
TZOFFSETFROM:+0100
TZOFFSETTO:+0200
TZNAME:CEST
DTSTART:20210328T010000
END:DAYLIGHT
BEGIN:STANDARD
TZOFFSETFROM:+0200
TZOFFSETTO:+0100
TZNAME:CET
DTSTART:20211031T010000
END:STANDARD
BEGIN:DAYLIGHT
TZOFFSETFROM:+0100
TZOFFSETTO:+0200
TZNAME:CEST
DTSTART:20220327T010000
END:DAYLIGHT
BEGIN:STANDARD
TZOFFSETFROM:+0200
TZOFFSETTO:+0100
TZNAME:CET
DTSTART:20221030T010000
END:STANDARD
BEGIN:DAYLIGHT
TZOFFSETFROM:+0100
TZOFFSETTO:+0200
TZNAME:CEST
DTSTART:20230326T010000
END:DAYLIGHT
BEGIN:STANDARD
TZOFFSETFROM:+0200
TZOFFSETTO:+0100
TZNAME:CET
DTSTART:20231029T010000
END:STANDARD
END:VTIMEZONE
BEGIN:VTIMEZONE
TZID:UTC
BEGIN:STANDARD
TZOFFSETFROM:+0000
TZOFFSETTO:+0000
TZNAME:UTC
DTSTART:20210101T000000
END:STANDARD
END:VTIMEZONE
BEGIN:VEVENT
DTSTART;TZID=Europe/Berlin:20220802T190000
DTEND;TZID=Europe/Berlin:20220802T210000
DTSTAMP:20260421T104248
CREATED:20220212T195304Z
LAST-MODIFIED:20220212T195304Z
UID:5331-1659466800-1659474000@spd-marzahn-hellersdorf.de
SUMMARY:Versammlung der SPD Kaulsdorf- und Mahlsdorf-Nord
DESCRIPTION:bei Interesse bitte melden: mail@spd-lehmann.de
URL:https://spd-marzahn-hellersdorf.de/veranstaltung/versammlung-der-spd-kaulsdorf-und-mahlsdorf-nord-5
CATEGORIES:SPD Kaulsdorf- und Mahlsdorf-Nord
ORGANIZER;CN="Abteilung 6%3A SPD Kaulsdorf- und Mahlsdorf-Nord":MAILTO:mail@spd-lehmann.de
END:VEVENT
BEGIN:VEVENT
DTSTART;TZID=UTC:20220819T180000
DTEND;TZID=UTC:20220819T200000
DTSTAMP:20260421T104248
CREATED:20220729T130034Z
LAST-MODIFIED:20220729T130034Z
UID:5655-1660932000-1660939200@spd-marzahn-hellersdorf.de
SUMMARY:SPD Biesdorf-Nord trifft sich
DESCRIPTION:Die SPD Biesdorf-Nord trifft sich wieder am 19. August 2022 um 18 Uhr in der Remise in der Oberfeldstr.
URL:https://spd-marzahn-hellersdorf.de/veranstaltung/spd-biesdorf-nord-trifft-sich
END:VEVENT
BEGIN:VEVENT
DTSTART;TZID=UTC:20220826T190000
DTEND;TZID=UTC:20220826T210000
DTSTAMP:20260421T104248
CREATED:20220505T091640Z
LAST-MODIFIED:20220505T091640Z
UID:5451-1661540400-1661547600@spd-marzahn-hellersdorf.de
SUMMARY:Mitgliederversammlung SPD Wuhletal
DESCRIPTION:Die SPD Wuhletal trifft sich in der Regel am letzten Freitag im Monat um 19.00 Uhr. Sie wollen vorbei kommen? Dann einfach eine e-Mail an: Kreis.Marzahn-Hellersdorf@spd.de . Wir senden Ihnen dann gerne weitere Informationen.
URL:https://spd-marzahn-hellersdorf.de/veranstaltung/mitgliederversammlung-spd-wuhletal-4
END:VEVENT
BEGIN:VEVENT
DTSTART;TZID=UTC:20220827T090000
DTEND;TZID=UTC:20220827T120000
DTSTAMP:20260421T104248
CREATED:20220816T090824Z
LAST-MODIFIED:20220816T103119Z
UID:5690-1661590800-1661601600@spd-marzahn-hellersdorf.de
SUMMARY:Einschulaktion der SPD Marzahn-Hellersdorf
DESCRIPTION:Traditionell wird die SPD Marzahn-Hellersdorf im Bezirk vor den Schulen stehen und den:die neuen Schüler:innen mit eine Brotbox begrüßen. Die Eltern werden das Schulgesetz des Landes Berlins erhalten.
URL:https://spd-marzahn-hellersdorf.de/veranstaltung/spd-marzahn-hellersdorf-einschulaktion
END:VEVENT
END:VCALENDAR