BEGIN:VCALENDAR
VERSION:2.0
PRODID:-//SPD Marzahn-Hellersdorf - ECPv6.15.20//NONSGML v1.0//EN
CALSCALE:GREGORIAN
METHOD:PUBLISH
X-WR-CALNAME:SPD Marzahn-Hellersdorf
X-ORIGINAL-URL:https://spd-marzahn-hellersdorf.de
X-WR-CALDESC:Veranstaltungen für SPD Marzahn-Hellersdorf
REFRESH-INTERVAL;VALUE=DURATION:PT1H
X-Robots-Tag:noindex
X-PUBLISHED-TTL:PT1H
BEGIN:VTIMEZONE
TZID:Europe/Berlin
BEGIN:DAYLIGHT
TZOFFSETFROM:+0100
TZOFFSETTO:+0200
TZNAME:CEST
DTSTART:20200329T010000
END:DAYLIGHT
BEGIN:STANDARD
TZOFFSETFROM:+0200
TZOFFSETTO:+0100
TZNAME:CET
DTSTART:20201025T010000
END:STANDARD
BEGIN:DAYLIGHT
TZOFFSETFROM:+0100
TZOFFSETTO:+0200
TZNAME:CEST
DTSTART:20210328T010000
END:DAYLIGHT
BEGIN:STANDARD
TZOFFSETFROM:+0200
TZOFFSETTO:+0100
TZNAME:CET
DTSTART:20211031T010000
END:STANDARD
BEGIN:DAYLIGHT
TZOFFSETFROM:+0100
TZOFFSETTO:+0200
TZNAME:CEST
DTSTART:20220327T010000
END:DAYLIGHT
BEGIN:STANDARD
TZOFFSETFROM:+0200
TZOFFSETTO:+0100
TZNAME:CET
DTSTART:20221030T010000
END:STANDARD
END:VTIMEZONE
BEGIN:VEVENT
DTSTART;TZID=Europe/Berlin:20210202T190000
DTEND;TZID=Europe/Berlin:20210202T210000
DTSTAMP:20260422T202059
CREATED:20201006T095056Z
LAST-MODIFIED:20201006T095056Z
UID:4096-1612292400-1612299600@spd-marzahn-hellersdorf.de
SUMMARY:Versammlung SPD Kaulsdorf- und Mahlsdorf-Nord
DESCRIPTION:
URL:https://spd-marzahn-hellersdorf.de/veranstaltung/versammlung-spd-kaulsdorf-und-mahlsdorf-nord-4
CATEGORIES:SPD Kaulsdorf- und Mahlsdorf-Nord
ORGANIZER;CN="Abteilung 6%3A SPD Kaulsdorf- und Mahlsdorf-Nord":MAILTO:mail@spd-lehmann.de
END:VEVENT
BEGIN:VEVENT
DTSTART;TZID=Europe/Berlin:20210209T183000
DTEND;TZID=Europe/Berlin:20210209T203000
DTSTAMP:20260422T202059
CREATED:20210118T202605Z
LAST-MODIFIED:20210118T202605Z
UID:4378-1612895400-1612902600@spd-marzahn-hellersdorf.de
SUMMARY:Versammlung ASF
DESCRIPTION:
URL:https://spd-marzahn-hellersdorf.de/veranstaltung/versammlung-asf
LOCATION:– Online-Veranstaltung –
CATEGORIES:Arbeitsgemeinschaft Sozialdemokratischer Frauen
END:VEVENT
BEGIN:VEVENT
DTSTART;TZID=Europe/Berlin:20210217T190000
DTEND;TZID=Europe/Berlin:20210217T210000
DTSTAMP:20260422T202059
CREATED:20210112T164337Z
LAST-MODIFIED:20210112T164337Z
UID:4332-1613588400-1613595600@spd-marzahn-hellersdorf.de
SUMMARY:Versammlung SPD Alt-Marzahn
DESCRIPTION:Abteilungsversammlung der SPD Alt-Marzahn
URL:https://spd-marzahn-hellersdorf.de/veranstaltung/versammlung-spd-alt-marzahn-2
LOCATION:– Online-Veranstaltung –
ORGANIZER;CN="SPD Alt-Marzahn":MAILTO:info@spd-alt-marzahn.de
END:VEVENT
END:VCALENDAR