BEGIN:VCALENDAR
VERSION:2.0
PRODID:-//SPD Marzahn-Hellersdorf - ECPv6.15.20//NONSGML v1.0//EN
CALSCALE:GREGORIAN
METHOD:PUBLISH
X-ORIGINAL-URL:https://spd-marzahn-hellersdorf.de
X-WR-CALDESC:Veranstaltungen für SPD Marzahn-Hellersdorf
REFRESH-INTERVAL;VALUE=DURATION:PT1H
X-Robots-Tag:noindex
X-PUBLISHED-TTL:PT1H
BEGIN:VTIMEZONE
TZID:Europe/Berlin
BEGIN:DAYLIGHT
TZOFFSETFROM:+0100
TZOFFSETTO:+0200
TZNAME:CEST
DTSTART:20200329T010000
END:DAYLIGHT
BEGIN:STANDARD
TZOFFSETFROM:+0200
TZOFFSETTO:+0100
TZNAME:CET
DTSTART:20201025T010000
END:STANDARD
BEGIN:DAYLIGHT
TZOFFSETFROM:+0100
TZOFFSETTO:+0200
TZNAME:CEST
DTSTART:20210328T010000
END:DAYLIGHT
BEGIN:STANDARD
TZOFFSETFROM:+0200
TZOFFSETTO:+0100
TZNAME:CET
DTSTART:20211031T010000
END:STANDARD
BEGIN:DAYLIGHT
TZOFFSETFROM:+0100
TZOFFSETTO:+0200
TZNAME:CEST
DTSTART:20220327T010000
END:DAYLIGHT
BEGIN:STANDARD
TZOFFSETFROM:+0200
TZOFFSETTO:+0100
TZNAME:CET
DTSTART:20221030T010000
END:STANDARD
END:VTIMEZONE
BEGIN:VEVENT
DTSTART;TZID=Europe/Berlin:20210105T190000
DTEND;TZID=Europe/Berlin:20210105T210000
DTSTAMP:20260424T115124
CREATED:20201006T094821Z
LAST-MODIFIED:20201006T094821Z
UID:4094-1609873200-1609880400@spd-marzahn-hellersdorf.de
SUMMARY:Versammlung SPD Kaulsdorf- und Mahlsdorf-Nord
DESCRIPTION:
URL:https://spd-marzahn-hellersdorf.de/veranstaltung/versammlung-spd-kaulsdorf-und-mahlsdorf-nord-3
CATEGORIES:SPD Kaulsdorf- und Mahlsdorf-Nord
ORGANIZER;CN="Abteilung 6%3A SPD Kaulsdorf- und Mahlsdorf-Nord":MAILTO:mail@spd-lehmann.de
END:VEVENT
BEGIN:VEVENT
DTSTART;TZID=Europe/Berlin:20210116T110000
DTEND;TZID=Europe/Berlin:20210116T130000
DTSTAMP:20260424T115124
CREATED:20201216T120044Z
LAST-MODIFIED:20201216T120044Z
UID:4315-1610794800-1610802000@spd-marzahn-hellersdorf.de
SUMMARY:digitaler ASF-Neujahrsbrunch
DESCRIPTION:
URL:https://spd-marzahn-hellersdorf.de/veranstaltung/digitaler-asf-neujahrsbrunch
LOCATION:– Online-Veranstaltung –
CATEGORIES:Arbeitsgemeinschaft Sozialdemokratischer Frauen
END:VEVENT
BEGIN:VEVENT
DTSTART;TZID=Europe/Berlin:20210127T190000
DTEND;TZID=Europe/Berlin:20210127T210000
DTSTAMP:20260424T115124
CREATED:20210112T163708Z
LAST-MODIFIED:20210112T163708Z
UID:4329-1611774000-1611781200@spd-marzahn-hellersdorf.de
SUMMARY:Versammlung SPD Alt-Marzahn
DESCRIPTION:Abteilungsversammlung der SPD Alt-Marzahn
URL:https://spd-marzahn-hellersdorf.de/veranstaltung/versammlung-spd-alt-marzahn
LOCATION:– Online-Veranstaltung –
ORGANIZER;CN="SPD Alt-Marzahn":MAILTO:info@spd-alt-marzahn.de
END:VEVENT
END:VCALENDAR