BEGIN:VCALENDAR
VERSION:2.0
PRODID:-//SPD Marzahn-Hellersdorf - ECPv6.15.20//NONSGML v1.0//EN
CALSCALE:GREGORIAN
METHOD:PUBLISH
X-WR-CALNAME:SPD Marzahn-Hellersdorf
X-ORIGINAL-URL:https://spd-marzahn-hellersdorf.de
X-WR-CALDESC:Veranstaltungen für SPD Marzahn-Hellersdorf
REFRESH-INTERVAL;VALUE=DURATION:PT1H
X-Robots-Tag:noindex
X-PUBLISHED-TTL:PT1H
BEGIN:VTIMEZONE
TZID:Europe/Berlin
BEGIN:DAYLIGHT
TZOFFSETFROM:+0100
TZOFFSETTO:+0200
TZNAME:CEST
DTSTART:20190331T010000
END:DAYLIGHT
BEGIN:STANDARD
TZOFFSETFROM:+0200
TZOFFSETTO:+0100
TZNAME:CET
DTSTART:20191027T010000
END:STANDARD
BEGIN:DAYLIGHT
TZOFFSETFROM:+0100
TZOFFSETTO:+0200
TZNAME:CEST
DTSTART:20200329T010000
END:DAYLIGHT
BEGIN:STANDARD
TZOFFSETFROM:+0200
TZOFFSETTO:+0100
TZNAME:CET
DTSTART:20201025T010000
END:STANDARD
BEGIN:DAYLIGHT
TZOFFSETFROM:+0100
TZOFFSETTO:+0200
TZNAME:CEST
DTSTART:20210328T010000
END:DAYLIGHT
BEGIN:STANDARD
TZOFFSETFROM:+0200
TZOFFSETTO:+0100
TZNAME:CET
DTSTART:20211031T010000
END:STANDARD
END:VTIMEZONE
BEGIN:VEVENT
DTSTART;TZID=Europe/Berlin:20201103T190000
DTEND;TZID=Europe/Berlin:20201103T210000
DTSTAMP:20260424T135135
CREATED:20201006T094343Z
LAST-MODIFIED:20201018T092411Z
UID:4089-1604430000-1604437200@spd-marzahn-hellersdorf.de
SUMMARY:Fridays for Future zu Gast bei der SPD Kaulsdorf- und Mahlsdorf-Nord
DESCRIPTION:Die November-Abteilungsversammlung findet zum Thema Verkehr und Moblilitätsgesetz statt. Als Gäste eingeladen sind Jonas Knorr\, Fridays for Future Marzahn-Hellersdorf und Tino Schopf\, verkehrspolitischer Sprecher der SPD im Berliner Abgeordnetenhaus.
URL:https://spd-marzahn-hellersdorf.de/veranstaltung/versammlung-spd-kaulsdorf-und-mahlsdorf-nord
LOCATION:Telefonkonferenz
CATEGORIES:SPD Kaulsdorf- und Mahlsdorf-Nord
ORGANIZER;CN="Abteilung 6%3A SPD Kaulsdorf- und Mahlsdorf-Nord":MAILTO:mail@spd-lehmann.de
END:VEVENT
BEGIN:VEVENT
DTSTART;VALUE=DATE:20201107
DTEND;VALUE=DATE:20201108
DTSTAMP:20260424T135135
CREATED:20200922T194329Z
LAST-MODIFIED:20200922T194329Z
UID:4060-1604707200-1604793599@spd-marzahn-hellersdorf.de
SUMMARY:Diskussionsforum zum Wahlprogramm (Ideenschmiede)
DESCRIPTION:
URL:https://spd-marzahn-hellersdorf.de/veranstaltung/diskussionsforum-zum-wahlprogramm-ideenschmiede
END:VEVENT
BEGIN:VEVENT
DTSTART;TZID=Europe/Berlin:20201112T180000
DTEND;TZID=Europe/Berlin:20201112T200000
DTSTAMP:20260424T135135
CREATED:20200705T124453Z
LAST-MODIFIED:20200705T124453Z
UID:3694-1605204000-1605211200@spd-marzahn-hellersdorf.de
SUMMARY:AfB-Sitzung
DESCRIPTION:
URL:https://spd-marzahn-hellersdorf.de/veranstaltung/afb-sitzung-5
LOCATION:Kreisbüro\, Marzahner Promenade 37\, Berlin\, 12679
CATEGORIES:Arbeitsgemeinschaft für Bildung
END:VEVENT
BEGIN:VEVENT
DTSTART;TZID=Europe/Berlin:20201121T110000
DTEND;TZID=Europe/Berlin:20201121T130000
DTSTAMP:20260424T135135
CREATED:20200821T175418Z
LAST-MODIFIED:20200821T175418Z
UID:3921-1605956400-1605963600@spd-marzahn-hellersdorf.de
SUMMARY:ASF Marzahn-Hellersdorf
DESCRIPTION:
URL:https://spd-marzahn-hellersdorf.de/veranstaltung/asf-marzahn-hellersdorf-2
LOCATION:– Online-Veranstaltung –
CATEGORIES:Arbeitsgemeinschaft Sozialdemokratischer Frauen
END:VEVENT
END:VCALENDAR