BEGIN:VCALENDAR
VERSION:2.0
PRODID:-//SPD Marzahn-Hellersdorf - ECPv6.15.20//NONSGML v1.0//EN
CALSCALE:GREGORIAN
METHOD:PUBLISH
X-WR-CALNAME:SPD Marzahn-Hellersdorf
X-ORIGINAL-URL:https://spd-marzahn-hellersdorf.de
X-WR-CALDESC:Veranstaltungen für SPD Marzahn-Hellersdorf
REFRESH-INTERVAL;VALUE=DURATION:PT1H
X-Robots-Tag:noindex
X-PUBLISHED-TTL:PT1H
BEGIN:VTIMEZONE
TZID:UTC
BEGIN:STANDARD
TZOFFSETFROM:+0000
TZOFFSETTO:+0000
TZNAME:UTC
DTSTART:20210101T000000
END:STANDARD
END:VTIMEZONE
BEGIN:VEVENT
DTSTART;VALUE=DATE:20221112
DTEND;VALUE=DATE:20221113
DTSTAMP:20260420T114114
CREATED:20220505T092725Z
LAST-MODIFIED:20220505T092725Z
UID:5461-1668211200-1668297599@spd-marzahn-hellersdorf.de
SUMMARY:Landesparteitag der SPD Berlin
DESCRIPTION:Es folgend weitere Informationen
URL:https://spd-marzahn-hellersdorf.de/veranstaltung/landesparteitag-der-spd-berlin
END:VEVENT
END:VCALENDAR