BEGIN:VCALENDAR
VERSION:2.0
PRODID:-//SPD Marzahn-Hellersdorf - ECPv6.15.20//NONSGML v1.0//EN
CALSCALE:GREGORIAN
METHOD:PUBLISH
X-WR-CALNAME:SPD Marzahn-Hellersdorf
X-ORIGINAL-URL:https://spd-marzahn-hellersdorf.de
X-WR-CALDESC:Veranstaltungen für SPD Marzahn-Hellersdorf
REFRESH-INTERVAL;VALUE=DURATION:PT1H
X-Robots-Tag:noindex
X-PUBLISHED-TTL:PT1H
BEGIN:VTIMEZONE
TZID:UTC
BEGIN:STANDARD
TZOFFSETFROM:+0000
TZOFFSETTO:+0000
TZNAME:UTC
DTSTART:20210101T000000
END:STANDARD
END:VTIMEZONE
BEGIN:VEVENT
DTSTART;TZID=UTC:20220617T180000
DTEND;TZID=UTC:20220617T200000
DTSTAMP:20260423T171922
CREATED:20220428T170417Z
LAST-MODIFIED:20220428T170439Z
UID:5415-1655488800-1655496000@spd-marzahn-hellersdorf.de
SUMMARY:Mitgliederversammlung Biesdorf-Nord
DESCRIPTION:Die Mitgliederversammlung der SPD Biesdorf-Nord findet in der Restauration zur kleinen Remise\, Oberfeldstr. 24\, 12683 Berlin
URL:https://spd-marzahn-hellersdorf.de/veranstaltung/mitgliederversammlung-biesdorf-nord
END:VEVENT
END:VCALENDAR