BEGIN:VCALENDAR
VERSION:2.0
PRODID:-//SPD Marzahn-Hellersdorf - ECPv6.15.20//NONSGML v1.0//EN
CALSCALE:GREGORIAN
METHOD:PUBLISH
X-ORIGINAL-URL:https://spd-marzahn-hellersdorf.de
X-WR-CALDESC:Veranstaltungen für SPD Marzahn-Hellersdorf
REFRESH-INTERVAL;VALUE=DURATION:PT1H
X-Robots-Tag:noindex
X-PUBLISHED-TTL:PT1H
BEGIN:VTIMEZONE
TZID:UTC
BEGIN:STANDARD
TZOFFSETFROM:+0000
TZOFFSETTO:+0000
TZNAME:UTC
DTSTART:20210101T000000
END:STANDARD
END:VTIMEZONE
BEGIN:VEVENT
DTSTART;TZID=UTC:20220603T100000
DTEND;TZID=UTC:20220603T140000
DTSTAMP:20260423T172257
CREATED:20220512T102305Z
LAST-MODIFIED:20220512T102305Z
UID:5494-1654250400-1654264800@spd-marzahn-hellersdorf.de
SUMMARY:Sprechstunde Jan Lehmann\, MdA
DESCRIPTION:Um Anmeldung wird gebeten: post@jan-lehmann.de 030-65 48 70 30 \nBitte beachten Sie die geltenden Hygieneregeln. \nAuf Wunsch kann die Sprechstunde auch digital / telefonisch durchgeführt werden.
URL:https://spd-marzahn-hellersdorf.de/veranstaltung/sprechstunde-jan-lehmann-mda-11
LOCATION:Bürgerbüro am S-Bahnhof Kaulsdorf\, Heinrich-Grüber-Straße 8\, Berlin\, 12621
CATEGORIES:Jan Lehmann
END:VEVENT
END:VCALENDAR