BEGIN:VCALENDAR
VERSION:2.0
PRODID:-//SPD Marzahn-Hellersdorf - ECPv6.15.20//NONSGML v1.0//EN
CALSCALE:GREGORIAN
METHOD:PUBLISH
X-WR-CALNAME:SPD Marzahn-Hellersdorf
X-ORIGINAL-URL:https://spd-marzahn-hellersdorf.de
X-WR-CALDESC:Veranstaltungen für SPD Marzahn-Hellersdorf
REFRESH-INTERVAL;VALUE=DURATION:PT1H
X-Robots-Tag:noindex
X-PUBLISHED-TTL:PT1H
BEGIN:VTIMEZONE
TZID:UTC
BEGIN:STANDARD
TZOFFSETFROM:+0000
TZOFFSETTO:+0000
TZNAME:UTC
DTSTART:20210101T000000
END:STANDARD
END:VTIMEZONE
BEGIN:VEVENT
DTSTART;TZID=UTC:20220520T150000
DTEND;TZID=UTC:20220520T170000
DTSTAMP:20260423T190701
CREATED:20220506T120746Z
LAST-MODIFIED:20220506T121934Z
UID:5468-1653058800-1653066000@spd-marzahn-hellersdorf.de
SUMMARY:Offene Sprechstunde Jan Lehmann\, MdA
DESCRIPTION:Sagen Sie´s Herrn Lehmann. Kommen Sie in sein Kiezbüro – direkt am S-Bahnhof Kaulsdorf. Am besten ist es\, wenn Sie vorher einen Termin ausmachen.  Schicken Sie Herrn Lehmann eine e-Mail: post@jan-lehmann.de
URL:https://spd-marzahn-hellersdorf.de/veranstaltung/offene-sprechstunde-jan-lehmann-mda-2
END:VEVENT
BEGIN:VEVENT
DTSTART;TZID=UTC:20220520T170000
DTEND;TZID=UTC:20220520T220000
DTSTAMP:20260423T190701
CREATED:20220428T101031Z
LAST-MODIFIED:20220428T101058Z
UID:5392-1653066000-1653084000@spd-marzahn-hellersdorf.de
SUMMARY:Kreisdelegiertenversammlung der SPD Marzahn-Hellersdorf\, Wahl des neuen Kreisvorstandes 2022 - 2024
DESCRIPTION:
URL:https://spd-marzahn-hellersdorf.de/veranstaltung/kreisdelegiertenversammlung-der-spd-marzahn-hellersdorf-wahl-des-neuen-kreisvorstandes
END:VEVENT
END:VCALENDAR