BEGIN:VCALENDAR
VERSION:2.0
PRODID:-//SPD Marzahn-Hellersdorf - ECPv6.15.20//NONSGML v1.0//EN
CALSCALE:GREGORIAN
METHOD:PUBLISH
X-WR-CALNAME:SPD Marzahn-Hellersdorf
X-ORIGINAL-URL:https://spd-marzahn-hellersdorf.de
X-WR-CALDESC:Veranstaltungen für SPD Marzahn-Hellersdorf
REFRESH-INTERVAL;VALUE=DURATION:PT1H
X-Robots-Tag:noindex
X-PUBLISHED-TTL:PT1H
BEGIN:VTIMEZONE
TZID:UTC
BEGIN:STANDARD
TZOFFSETFROM:+0000
TZOFFSETTO:+0000
TZNAME:UTC
DTSTART:20210101T000000
END:STANDARD
END:VTIMEZONE
BEGIN:VEVENT
DTSTART;TZID=UTC:20220513T150000
DTEND;TZID=UTC:20220513T170000
DTSTAMP:20260423T190701
CREATED:20220506T120632Z
LAST-MODIFIED:20220506T120632Z
UID:5466-1652454000-1652461200@spd-marzahn-hellersdorf.de
SUMMARY:Offene Sprechstunde Jan Lehmann\, MdA
DESCRIPTION:Sagen Sie´s Herrn Lehmann. Kommen Sie in sein Kiezbüro – direkt am S-Bahnhof Kaulsdorf. Am besten ist es\, wenn Sie vorher einen Termin ausmachen.  Schicken Sie Herrn Lehmann eine e-Mail: post@jan-lehmann.de
URL:https://spd-marzahn-hellersdorf.de/veranstaltung/offene-sprechstunde-jan-lehmann-mda
END:VEVENT
BEGIN:VEVENT
DTSTART;TZID=UTC:20220513T180000
DTEND;TZID=UTC:20220513T200000
DTSTAMP:20260423T190701
CREATED:20220428T170236Z
LAST-MODIFIED:20220428T170250Z
UID:5412-1652464800-1652472000@spd-marzahn-hellersdorf.de
SUMMARY:Mitgliederversammmlung Biesdorf-Nord
DESCRIPTION:Mitgliederversammlung der SPD Biesdorf-Nord findet statt in der Restauration zur kleinen Remise\, Oberfeldstr. 24\, 12683 Berlin
URL:https://spd-marzahn-hellersdorf.de/veranstaltung/mitgliederversammmlung-biesdorf-nord
END:VEVENT
END:VCALENDAR