BEGIN:VCALENDAR
VERSION:2.0
PRODID:-//SPD Marzahn-Hellersdorf - ECPv6.15.20//NONSGML v1.0//EN
CALSCALE:GREGORIAN
METHOD:PUBLISH
X-WR-CALNAME:SPD Marzahn-Hellersdorf
X-ORIGINAL-URL:https://spd-marzahn-hellersdorf.de
X-WR-CALDESC:Veranstaltungen für SPD Marzahn-Hellersdorf
REFRESH-INTERVAL;VALUE=DURATION:PT1H
X-Robots-Tag:noindex
X-PUBLISHED-TTL:PT1H
BEGIN:VTIMEZONE
TZID:UTC
BEGIN:STANDARD
TZOFFSETFROM:+0000
TZOFFSETTO:+0000
TZNAME:UTC
DTSTART:20210101T000000
END:STANDARD
END:VTIMEZONE
BEGIN:VEVENT
DTSTART;TZID=UTC:20220512T180000
DTEND;TZID=UTC:20220512T200000
DTSTAMP:20260425T135929
CREATED:20220510T112033Z
LAST-MODIFIED:20220510T112500Z
UID:5478-1652378400-1652385600@spd-marzahn-hellersdorf.de
SUMMARY:Sitzung Arbeitsgemeinschaft für Bildung (digital)
DESCRIPTION:Die Arbeitsgemeinschaft für Bildung der SPD Marzahn-Hellersdorf tagt am Donnerstag\, 12. Mai 2022\, ab 18.00 Uhr. Die Sitzung findet als ViKo statt.
URL:https://spd-marzahn-hellersdorf.de/veranstaltung/sitzung-arbeitsgemeinschaft-fuer-bildung-digital
CATEGORIES:Arbeitsgemeinschaft für Bildung
END:VEVENT
END:VCALENDAR