BEGIN:VCALENDAR
VERSION:2.0
PRODID:-//SPD Marzahn-Hellersdorf - ECPv6.15.20//NONSGML v1.0//EN
CALSCALE:GREGORIAN
METHOD:PUBLISH
X-WR-CALNAME:SPD Marzahn-Hellersdorf
X-ORIGINAL-URL:https://spd-marzahn-hellersdorf.de
X-WR-CALDESC:Veranstaltungen für SPD Marzahn-Hellersdorf
REFRESH-INTERVAL;VALUE=DURATION:PT1H
X-Robots-Tag:noindex
X-PUBLISHED-TTL:PT1H
BEGIN:VTIMEZONE
TZID:UTC
BEGIN:STANDARD
TZOFFSETFROM:+0000
TZOFFSETTO:+0000
TZNAME:UTC
DTSTART:20210101T000000
END:STANDARD
END:VTIMEZONE
BEGIN:VEVENT
DTSTART;TZID=UTC:20220501T103000
DTEND;TZID=UTC:20220501T130000
DTSTAMP:20260423T190703
CREATED:20220429T123550Z
LAST-MODIFIED:20220429T123550Z
UID:5426-1651401000-1651410000@spd-marzahn-hellersdorf.de
SUMMARY:Heraus zum 1. Mai
DESCRIPTION:Demonstration des DGB zum Tag der Arbeit am 1. Mai 2022 ab 10.45 Uhr\, Start: Alexanderstraße\, Nähe S+U Alexanderplatz
URL:https://spd-marzahn-hellersdorf.de/veranstaltung/heraus-zum-1-mai
END:VEVENT
END:VCALENDAR