BEGIN:VCALENDAR
VERSION:2.0
PRODID:-//SPD Marzahn-Hellersdorf - ECPv6.15.20//NONSGML v1.0//EN
CALSCALE:GREGORIAN
METHOD:PUBLISH
X-ORIGINAL-URL:https://spd-marzahn-hellersdorf.de
X-WR-CALDESC:Veranstaltungen für SPD Marzahn-Hellersdorf
REFRESH-INTERVAL;VALUE=DURATION:PT1H
X-Robots-Tag:noindex
X-PUBLISHED-TTL:PT1H
BEGIN:VTIMEZONE
TZID:UTC
BEGIN:STANDARD
TZOFFSETFROM:+0000
TZOFFSETTO:+0000
TZNAME:UTC
DTSTART:20210101T000000
END:STANDARD
END:VTIMEZONE
BEGIN:VEVENT
DTSTART;TZID=UTC:20220429T100000
DTEND;TZID=UTC:20220429T140000
DTSTAMP:20260423T190735
CREATED:20220328T084144Z
LAST-MODIFIED:20220328T084144Z
UID:5361-1651226400-1651240800@spd-marzahn-hellersdorf.de
SUMMARY:Sprechstunde Jan Lehmann\, MdA
DESCRIPTION:Um Anmeldung wird gebeten: post@jan-lehmann.de 030-65 48 70 30 \nBitte beachten Sie die geltenden Hygieneregeln. \nAuf Wunsch kann die Sprechstunde auch digital / telefonisch durchgeführt werden.
URL:https://spd-marzahn-hellersdorf.de/veranstaltung/sprechstunde-jan-lehmann-mda-9
LOCATION:Bürgerbüro am S-Bahnhof Kaulsdorf\, Heinrich-Grüber-Straße 8\, Berlin\, 12621
CATEGORIES:Jan Lehmann
END:VEVENT
BEGIN:VEVENT
DTSTART;TZID=UTC:20220429T190000
DTEND;TZID=UTC:20220429T210000
DTSTAMP:20260423T190735
CREATED:20220428T171403Z
LAST-MODIFIED:20220428T171403Z
UID:5417-1651258800-1651266000@spd-marzahn-hellersdorf.de
SUMMARY:Abteilungswahl SPD Hellersdorf
DESCRIPTION:Alle zwei Jahre wählen die Abteilungen in der SPD neue Vorstände. Am 29. April wählt die SPD Hellersdorf ihren neuen Vorstand.
URL:https://spd-marzahn-hellersdorf.de/veranstaltung/abteilungswahl-spd-hellersdorf
END:VEVENT
BEGIN:VEVENT
DTSTART;TZID=UTC:20220429T190000
DTEND;TZID=UTC:20220429T210000
DTSTAMP:20260423T190735
CREATED:20220429T125126Z
LAST-MODIFIED:20220429T125817Z
UID:5431-1651258800-1651266000@spd-marzahn-hellersdorf.de
SUMMARY:SPD Wuhletal-Süd wählt neuen Vorstand
DESCRIPTION:Alle zwei Jahre wird in den Vor-Ort-Gliederungen der SPD Marzahn-Hellersdorf neue Vorstände gewählt. Am 29. April um 19.00 uhr wählt die SPD Wuhletal in den Räumen der AWO Mahlsdorf-Süd ihren neuen Vorstand.
URL:https://spd-marzahn-hellersdorf.de/veranstaltung/spd-wuhletal-sued-waehlt-neuen-vorstand
END:VEVENT
END:VCALENDAR